Workbook

Sheet 使い方
A1: 実業団登録申請書様式フォーム
A2: 使い方
A4: 様式C-1（データ入力用）
B5: 様式C-1（データ出力用）シートを使って申請書を作成するための入力用フォーム（表）です。
B6: 実業団IDはJBCへの登録順に割り当てた通し番号がありますので「2023支部クラブ実業団高校登録番号一覧」にて
B7: お知らせいたします。なお、実業団OBクラブは「連盟№＋００」番で登録してください。
B8: 新規登録実業団は最終番号の次より順に割り当ててください。
B9: 表に実業団登録に必要な各情報を記入してください。
B10: 業種はプルダウンメニューより該当する業種を選択してくだい。業種番号は自動入力されます。
A12: 様式C-1（データ出力用）
B13: 様式C-1（データ入力用）シートに入力したデータを使いA4版用紙に1チームずつ作成するためのフォームです。
B14: 同シートは計算式消去防止のため、シート保護がかけられていますが、改造される際はシート保護を解除してください。
B15: （パスワードは不要で解除出来ます）
B16: 1ページ目「協会提出用」、2ページ目「連盟保存用」、3ページ目「実業団保存用」に分かれています。
B17: シート内左の「A5」（黄色セル）に様式C-1（データ入力用）シートで作成した表の左1列目「実業団№」と同じ数値を入力すると
B18: 同行のデータが3ページとも反映されます。
B19: 下段の「申請年月日」および「実業団代表者又は人事管理者」、「所属団体名」および「代表者名」欄は入力可能です。
B20: 「実業団代表者又は人事管理者」並びに「所属団体代表者」にはそれぞれ押印のうえ申請してください。

Sheet 様式C-1(データ出力用)
C2: 様式C-1 | R2: 様式C-1 | AG2: 様式C-1
C3: A-協会提出用 | R3: B-連盟保存用 | AG3: C-実業団保存用
C5: 公益財団法人 全日本ボウリング協会 実業団登録申請書 | K5: 都道府県名 | M5: =IF($A$5="","",VLOOKUP($A$5,'様式C-1(入力用)'!$A$3:$Q$42,2,FALSE)) | R5: 公益財団法人 全日本ボウリング協会 実業団登録申請書 | Z5: 都道府県名 | AB5: =M5 | AG5: 公益財団法人 全日本ボウリング協会 実業団登録申請書 | AO5: 都道府県名 | AQ5: =M5
A6: ↑ 実業団ID | K6: 支 部 名 | M6: =IF($A$5="","",VLOOKUP($A$5,'様式C-1(入力用)'!$A$3:$Q$42,3,FALSE)) | Z6: 支 部 名 | AB6: =M6 | AO6: 支 部 名 | AQ6: =M6
K7: 実業団№ | M7: =IF($A$5="","",VLOOKUP($A$5,'様式C-1(入力用)'!$A$3:$Q$42,1,FALSE)) | Z7: 実業団№ | AB7: =M7 | AO7: 実業団№ | AQ7: =M7
C8: 実業団名 | F8: =IF($A$5="","",VLOOKUP($A$5,'様式C-1(入力用)'!$A$3:$Q$42,4,FALSE)) | R8: 実業団名 | U8: =F8 | AG8: 実業団名 | AJ8: =F8
C9: 実業団 所在地 | F9: 〒 | G9: =IF($A$5="","",VLOOKUP($A$5,'様式C-1(入力用)'!$A$3:$Q$42,5,FALSE)) | R9: 実業団 所在地 | U9: 〒 | V9: =G9 | AG9: 実業団 所在地 | AJ9: 〒 | AK9: =G9
F10: =IF($A$5="","",VLOOKUP($A$5,'様式C-1(入力用)'!$A$3:$Q$42,6,FALSE)) | U10: =F10 | AJ10: =F10
J11: TEL | K11: =IF($A$5="","",VLOOKUP($A$5,'様式C-1(入力用)'!$A$3:$Q$42,7,FALSE)) | Y11: TEL | Z11: =K11 | AN11: TEL | AO11: =K11
C12: 資本金 | F12: =IF($A$5="","",VLOOKUP($A$5,'様式C-1(入力用)'!$A$3:$Q$42,8,FALSE)) | K12: 従業員数 | M12: =IF($A$5="","",VLOOKUP($A$5,'様式C-1(入力用)'!$A$3:$Q$42,9,FALSE)) | N12: 人 | R12: 資本金 | U12: =F12 | Z12: 従業員数 | AB12: =M12 | AC12: 人 | AG12: 資本金 | AJ12: =F12 | AO12: 従業員数 | AQ12: =M12 | AR12: 人
C13: 業種 | F13: =IF($A$5="","",VLOOKUP($A$5,'様式C-1(入力用)'!$A$3:$Q$42,10,FALSE)) | K13: 業種番号 | M13: =IF($A$5="","",VLOOKUP($A$5,'様式C-1(入力用)'!$A$3:$Q$42,11,FALSE)) | R13: 業種 | U13: =F13 | Z13: 業種番号 | AB13: =M13 | AG13: 業種 | AJ13: =F13 | AO13: 業種番号 | AQ13: =M13
C14: 代表者名 | F14: =IF($A$5="","",VLOOKUP($A$5,'様式C-1(入力用)'!$A$3:$Q$42,12,FALSE)) | J14: メンバー 責任者 連絡先 | K14: (会社)部課名 | R14: 代表者名 | U14: =F14 | Y14: メンバー 責任者 連絡先 | Z14: (会社)部課名 | AG14: 代表者名 | AJ14: =F14 | AN14: メンバー 責任者 連絡先 | AO14: (会社)部課名
K15: =IF($A$5="","",VLOOKUP($A$5,'様式C-1(入力用)'!$A$3:$Q$42,14,FALSE)) | Z15: =K15 | AO15: =K15
C16: メンバー 責任者 | F16: =IF($A$5="","",VLOOKUP($A$5,'様式C-1(入力用)'!$A$3:$Q$42,13,FALSE)) | R16: メンバー 責任者 | U16: =F16 | X16: ㊞ | AG16: メンバー 責任者 | AJ16: =F16
K17: TEL | L17: =IF($A$5="","",VLOOKUP($A$5,'様式C-1(入力用)'!$A$3:$Q$42,15,FALSE)) | Z17: TEL | AA17: =L17 | AO17: TEL | AP17: =L17
D19: 趣旨目的に賛同し登録を申請いたします。 また、別紙実業団登録会員名簿記載の登録会員は、会員登録規程第8条に基づく登録資格を 有する者であることを証明します。 | S19: 趣旨目的に賛同し登録を申請いたします。 また、別紙実業団登録会員名簿記載の登録会員は、会員登録規程第8条に基づく登録資格を 有する者であることを証明します。 | AH19: 趣旨目的に賛同し登録を申請いたします。 また、別紙実業団登録会員名簿記載の登録会員は、会員登録規程第8条に基づく登録資格を 有する者であることを証明します。
D21: 申請年月日 | H21: =IF($A$5="","",VLOOKUP($A$5,'様式C-1(入力用)'!$A$3:$Q$42,16,FALSE)) | S21: 申請年月日 | W21: =H21 | AH21: 申請年月日 | AL21: =H21
H23: 実業団代表者 又は人事管理者 | N23: ㊞ | W23: 実業団代表者 又は人事管理者 | AC23: ㊞ | AL23: 実業団代表者 又は人事管理者 | AR23: ㊞
D25: 連盟承認年月日 | H25: =IF($A$5="","",VLOOKUP($A$5,'様式C-1(入力用)'!$A$3:$Q$42,16,FALSE)) | S25: 連盟承認年月日 | W25: =H25 | AH25: 連盟承認年月日 | AL25: =H25
H27: 所属団体名 | W27: 所属団体名 | AL27: 所属団体名
H28: 代 表 者 名 | N28: ㊞ | W28: 代 表 者 名 | AC28: ㊞ | AL28: 代 表 者 名 | AR28: ㊞

Sheet 様式C-1(入力用)
A1: 実業団№ | B1: 都道府県名 | C1: 支部名 | D1: 実業団名 | E1: 実業団所在地〒 | F1: 実業団所在地 | G1: 実業団所在地TEL | H1: 資本金 | I1: 従業員数 | J1: 業種 | K1: 業種番号 | L1: 代表者名 | M1: メンバー責任者 | N1: 連絡先部課名 | O1: 連絡先TEL | P1: 申請年月日 | Q1: 連盟承認日
A2: 1234 | B2: 千葉県 | C2: 市川 | D2: 市川運輸株式会社 | E2: 272-8888 | F2: 千葉県市川市合川5-6 | G2: 047-333-3330 | H2: 10000000 | I2: 50 | J2: 輸送・運輸 | K2: =IF(J2="","",VLOOKUP(J2,業種№!$A$2:$B$30,2,FALSE)) -> 17-1 | L2: 田中 武夫 | M2: 鈴木 三郎 | N2: ××課 | O2: 047-333-3333 | P2: 45383 | Q2: 45383
K3: =IF(J3="","",VLOOKUP(J3,業種№!$A$2:$B$30,2,FALSE))
K4: =IF(J4="","",VLOOKUP(J4,業種№!$A$2:$B$30,2,FALSE))
K5: =IF(J5="","",VLOOKUP(J5,業種№!$A$2:$B$30,2,FALSE))
K6: =IF(J6="","",VLOOKUP(J6,業種№!$A$2:$B$30,2,FALSE))
K7: =IF(J7="","",VLOOKUP(J7,業種№!$A$2:$B$30,2,FALSE))
K8: =IF(J8="","",VLOOKUP(J8,業種№!$A$2:$B$30,2,FALSE))
K9: =IF(J9="","",VLOOKUP(J9,業種№!$A$2:$B$30,2,FALSE))
K10: =IF(J10="","",VLOOKUP(J10,業種№!$A$2:$B$30,2,FALSE))
K11: =IF(J11="","",VLOOKUP(J11,業種№!$A$2:$B$30,2,FALSE))
K12: =IF(J12="","",VLOOKUP(J12,業種№!$A$2:$B$30,2,FALSE))
K13: =IF(J13="","",VLOOKUP(J13,業種№!$A$2:$B$30,2,FALSE))
K14: =IF(J14="","",VLOOKUP(J14,業種№!$A$2:$B$30,2,FALSE))
... K42: =IF(J42="","",VLOOKUP(J42,業種№!$A$2:$B$30,2,FALSE))

Sheet 業種№
A1: 業種 | B1: 業種№
A2: 官公庁 | B2: 1
A3: 水産 | B3: 2
A4: 食品 | B4: 3
A5: 鉱業 | B5: 4
A6: 鉄鋼 | B6: 5
A7: 金属 | B7: 6
A8: 建設 | B8: 7
A9: 不動産 | B9: 8
A10: 化学 | B10: 9
A11: パルプ | B11: 10
A12: 石油 | B12: 11
... A31: 実業団OB | B31: 28
